BEGIN:VCALENDAR
VERSION:2.0
PRODID:-//AudioTheme 2.3.8
BEGIN:VEVENT
UID:urn:uuid:766d61d4-c0b1-4690-ae1c-2265df95fb44
URL:https://mitchmcvicker.com/concerts/trinity-lutheran-church/
DTSTART;TZID=GMT:20180426T000000
SUMMARY:Trinity Lutheran Church
LOCATION:Trinity Lutheran Church\, 1410 Rogers St\, Stevens Point\, WI\, USA\, 54481
END:VEVENT
END:VCALENDAR
