BEGIN:VCALENDAR
VERSION:2.0
PRODID:-//AudioTheme 2.3.8
BEGIN:VEVENT
UID:urn:uuid:188c804f-f28a-4d08-84e8-2838e7e22fdf
URL:https://mitchmcvicker.com/concerts/tba-3/
DTSTART;TZID=GMT:20180428T000000
SUMMARY:Stillwater Zephyr Theater
LOCATION:Stillwater Zephyr Theater\, 601 North Main Street\, Stillwater\, MN\, USA\, 55082
END:VEVENT
END:VCALENDAR
