BEGIN:VCALENDAR
VERSION:2.0
PRODID:-//AudioTheme 2.3.8
BEGIN:VEVENT
UID:urn:uuid:cfedf6a1-07d2-46fb-bde1-4820513b8da2
URL:https://mitchmcvicker.com/concerts/st-patricks-church/
DTSTART;TZID=GMT:20171104T000000
SUMMARY:St. Patrick's Church
LOCATION:St. Patrick's Church\, 314 N Rusk Ave\, Denison\, TX\, 75020
END:VEVENT
END:VCALENDAR
