BEGIN:VCALENDAR
VERSION:2.0
PRODID:-//AudioTheme 2.3.8
BEGIN:VEVENT
UID:urn:uuid:6eb83b02-a644-42de-b50b-1e032758aa0b
URL:https://mitchmcvicker.com/concerts/south-metro-vineyard-church/
DTSTART;TZID=GMT:20180429T150000
SUMMARY:South Metro Vineyard Church--am Church Service
LOCATION:South Metro Vineyard Church\, 13798 Parkwood Dr\, Burnsville\, MN\, USA\, 55337
END:VEVENT
END:VCALENDAR
