BEGIN:VCALENDAR
VERSION:2.0
PRODID:-//AudioTheme 2.3.8
BEGIN:VEVENT
UID:urn:uuid:9aba519a-7da4-422d-9c43-8d653902633a
URL:https://mitchmcvicker.com/concerts/roanoke-va/
DTSTART;TZID=GMT:20180614T230000
SUMMARY:Our Lady of Nazareth Catholic Church
LOCATION:Our Lady of Nazareth Catholic Church\, 2505 Electric Road\, Roanoke\, VA\, USA\, 24018
END:VEVENT
END:VCALENDAR
