BEGIN:VCALENDAR
VERSION:2.0
PRODID:-//AudioTheme 2.3.8
BEGIN:VEVENT
UID:urn:uuid:4ecbc4c5-fbe4-44c8-8292-4e5ebad8e5cd
URL:https://mitchmcvicker.com/concerts/powell-oh/
DTSTART;TZID=GMT:20180727T000000
SUMMARY:Beautiful Savior Lutheran Church
LOCATION:Beautiful Savior Lutheran Church\, 3924 Home Road\, Powell\, OH\, 43065
END:VEVENT
END:VCALENDAR
