BEGIN:VCALENDAR
VERSION:2.0
PRODID:-//AudioTheme 2.3.8
BEGIN:VEVENT
UID:urn:uuid:eb081509-0c1d-4c09-8485-4f948ab0115d
URL:https://mitchmcvicker.com/concerts/pittsville-va/
DTSTART;TZID=GMT:20180613T230000
SUMMARY:Pittsville VA
LOCATION:Summerset Baptist Church\, 3773 Bibee Rd\, Pittsville VA\, 
END:VEVENT
END:VCALENDAR
