BEGIN:VCALENDAR
VERSION:2.0
PRODID:-//AudioTheme 2.3.8
BEGIN:VEVENT
UID:urn:uuid:516cae8b-2336-4da1-bcdd-23f9ee0ed09c
URL:https://mitchmcvicker.com/concerts/pathway-church/
DTSTART;TZID=GMT:20180430T000000
SUMMARY:Pathway Church
LOCATION:Pathway Church\, 6523 Merle Hay Rd\, Johnston\, IA\, USA\, 50131
END:VEVENT
END:VCALENDAR
