BEGIN:VCALENDAR
VERSION:2.0
PRODID:-//AudioTheme 2.3.8
BEGIN:VEVENT
UID:urn:uuid:56da6a9b-5284-4a34-81f7-c00d1aa5ca67
URL:https://mitchmcvicker.com/concerts/northwoods-life-church/
DTSTART;TZID=GMT:20180429T000000
SUMMARY:Northwoods LIFE Church
LOCATION:Northwoods LIFE Church\, 945 W. Main St.\, Perham\, MN\, USA\, 56573
END:VEVENT
END:VCALENDAR
