BEGIN:VCALENDAR
VERSION:2.0
PRODID:-//AudioTheme 2.3.8
BEGIN:VEVENT
UID:urn:uuid:0477012f-edd3-4dfa-a4fa-1d0f72cb46f8
URL:https://mitchmcvicker.com/concerts/norman-ok/
DTSTART;TZID=GMT:20180412T000000
SUMMARY:The Seeker Church
LOCATION:The Seeker Church\, 1118 N Berry Rd\, Norman\, OK\, USA\, 73069
END:VEVENT
END:VCALENDAR
