BEGIN:VCALENDAR
VERSION:2.0
PRODID:-//AudioTheme 2.3.8
BEGIN:VEVENT
UID:urn:uuid:9280f553-ffd6-46e9-b6a1-c79c5d67ce74
URL:https://mitchmcvicker.com/concerts/monroe-city-in/
DTSTART;TZID=GMT:20210502T230000
SUMMARY:Countryside Church
LOCATION:Countryside Church\, 301 Green St.\, Merrillan\, WI\, United States\, 54754
END:VEVENT
END:VCALENDAR
