BEGIN:VCALENDAR
VERSION:2.0
PRODID:-//AudioTheme 2.3.8
BEGIN:VEVENT
UID:urn:uuid:7857147e-d58e-4ceb-8080-079657a17be1
URL:https://mitchmcvicker.com/concerts/louisville-ky/
DTSTART;TZID=GMT:20180726T001500
SUMMARY:House Concert
DESCRIPTION:Three miles across the Ohio river
LOCATION:Elam home\, 1819 E spring street\,\, Louisville KY (New Albany\, IN)\, 47150
END:VEVENT
END:VCALENDAR
