BEGIN:VCALENDAR
VERSION:2.0
PRODID:-//AudioTheme 2.3.8
BEGIN:VEVENT
UID:urn:uuid:68b27d62-cc09-4632-87de-12e5396ae206
URL:https://mitchmcvicker.com/concerts/longview-tx/
DTSTART;TZID=GMT:20180324T000000
SUMMARY:Mobberly Baptist Church
DESCRIPTION:Mitchell McVicker is returning to town in support of his new album\, "The Acceptance of And".
LOCATION:Mobberly Baptist Church\, 625 E Loop 281\, Longview\, TX\, USA\, 75605
END:VEVENT
END:VCALENDAR
