BEGIN:VCALENDAR
VERSION:2.0
PRODID:-//AudioTheme 2.3.8
BEGIN:VEVENT
UID:urn:uuid:01e22314-053a-482d-9012-db3575ef6c17
URL:https://mitchmcvicker.com/concerts/liberty-baptist-prairie-township/
DTSTART;TZID=GMT:20180510T230000
SUMMARY:Liberty Baptist Prairie Township (Kokomo)
LOCATION:Liberty Baptist Prairie Township\, 3530 N 1000 W\, Tipton\, IN\, USA\, 46072
END:VEVENT
END:VCALENDAR
