BEGIN:VCALENDAR
VERSION:2.0
PRODID:-//AudioTheme 2.3.8
BEGIN:VEVENT
UID:urn:uuid:790828ea-d352-46d1-b45d-e5fbcbfaadc1
URL:https://mitchmcvicker.com/concerts/lasalle-il/
DTSTART;TZID=GMT:20180728T001500
SUMMARY:Trinity Catholic Academy
LOCATION:Trinity Catholic Academy\, 650 4th Street\, LaSalle\, IL\, 61301
END:VEVENT
END:VCALENDAR
