BEGIN:VCALENDAR
VERSION:2.0
PRODID:-//AudioTheme 2.3.8
BEGIN:VEVENT
UID:urn:uuid:4bf506cd-208b-4e2e-a5f5-c2e0934d83be
URL:https://mitchmcvicker.com/concerts/jubilee-christian-church/
DTSTART;TZID=GMT:20171105T000000
SUMMARY:Jubilee Presbyterian Church
LOCATION:POSTPONED\, POSTPONED Valley Center\, KS\, 67147
END:VEVENT
END:VCALENDAR
