BEGIN:VCALENDAR
VERSION:2.0
PRODID:-//AudioTheme 2.3.8
BEGIN:VEVENT
UID:urn:uuid:d488fcd2-b15d-41c6-a1af-45f46e2b1ba7
URL:https://mitchmcvicker.com/concerts/grace-reformed-church/
DTSTART;TZID=GMT:20180414T000000
SUMMARY:Grace Reformed Church
LOCATION:Grace Reformed Church\, 520 Maxwell St\, Waterloo\, IA\, USA
END:VEVENT
END:VCALENDAR
