BEGIN:VCALENDAR
VERSION:2.0
PRODID:-//AudioTheme 2.3.8
BEGIN:VEVENT
UID:urn:uuid:7818fe48-acbd-4737-afd6-4305bbbbd21e
URL:https://mitchmcvicker.com/concerts/gig-998/
DTSTART;VALUE=DATE:20160910
SUMMARY:St. Bartholomew's Anglican Church
LOCATION:St. Bartholomew's Anglican Church\, 2368 Eggert Rd.\, Tonawanda\, NY
END:VEVENT
END:VCALENDAR
