BEGIN:VCALENDAR
VERSION:2.0
PRODID:-//AudioTheme 2.3.8
BEGIN:VEVENT
UID:urn:uuid:a579367a-235b-4005-883c-fd22f0c4559d
URL:https://mitchmcvicker.com/concerts/gig-996/
DTSTART;VALUE=DATE:20160909
SUMMARY:Community Coffeehouse
LOCATION:Community Coffeehouse\, Danbury\, CT
END:VEVENT
END:VCALENDAR
