BEGIN:VCALENDAR
VERSION:2.0
PRODID:-//AudioTheme 2.3.8
BEGIN:VEVENT
UID:urn:uuid:e5572600-f5d5-4b12-ba62-8ef795a69837
URL:https://mitchmcvicker.com/concerts/gig-994/
DTSTART;VALUE=DATE:20160908
SUMMARY:Spirit and Truth Fellowship
LOCATION:Spirit and Truth Fellowship\, Philadelphia\, PA
END:VEVENT
END:VCALENDAR
