BEGIN:VCALENDAR
VERSION:2.0
PRODID:-//AudioTheme 2.3.8
BEGIN:VEVENT
UID:urn:uuid:f87ab3e4-fa43-4734-aa59-0575b49085c6
URL:https://mitchmcvicker.com/concerts/gig-992/
DTSTART;VALUE=DATE:20160907
SUMMARY:Evangelical United Methodist Church
LOCATION:Evangelical United Methodist Church\, New Holland\, PA
END:VEVENT
END:VCALENDAR
