BEGIN:VCALENDAR
VERSION:2.0
PRODID:-//AudioTheme 2.3.8
BEGIN:VEVENT
UID:urn:uuid:3522f77e-38a1-474f-9011-7b56ff402c46
URL:https://mitchmcvicker.com/concerts/gig-988/
DTSTART;VALUE=DATE:20160611
SUMMARY:Life Spring Community Church
LOCATION:Life Spring Community Church\, St. Peters\, MO
END:VEVENT
END:VCALENDAR
