BEGIN:VCALENDAR
VERSION:2.0
PRODID:-//AudioTheme 2.3.8
BEGIN:VEVENT
UID:urn:uuid:f440771c-d390-4ebc-99d1-ca71d65c7091
URL:https://mitchmcvicker.com/concerts/gig-986/
DTSTART;VALUE=DATE:20160610
SUMMARY:Derby Bible Church
LOCATION:Derby Bible Church\, Derby\, KS
END:VEVENT
END:VCALENDAR
