BEGIN:VCALENDAR
VERSION:2.0
PRODID:-//AudioTheme 2.3.8
BEGIN:VEVENT
UID:urn:uuid:16f09e6f-de09-4142-bc3b-ecb6ef540f98
URL:https://mitchmcvicker.com/concerts/gig-984/
DTSTART;VALUE=DATE:20160609
SUMMARY:First United Methodist Church
LOCATION:First United Methodist Church\, Abilene\, KS
END:VEVENT
END:VCALENDAR
