BEGIN:VCALENDAR
VERSION:2.0
PRODID:-//AudioTheme 2.3.8
BEGIN:VEVENT
UID:urn:uuid:64ceb8d3-4a88-44be-882f-5538952603e0
URL:https://mitchmcvicker.com/concerts/gig-982/
DTSTART;VALUE=DATE:20160608
SUMMARY:Calvary Memorial Church
LOCATION:Calvary Memorial Church\, Gering\, NE
END:VEVENT
END:VCALENDAR
