BEGIN:VCALENDAR
VERSION:2.0
PRODID:-//AudioTheme 2.3.8
BEGIN:VEVENT
UID:urn:uuid:0b260bdb-5268-4a82-a6b8-1da8b0cf4871
URL:https://mitchmcvicker.com/concerts/gig-980/
DTSTART;VALUE=DATE:20160606
SUMMARY:Evangelical Free Church
LOCATION:Evangelical Free Church\, Canon City\, CO
END:VEVENT
END:VCALENDAR
