BEGIN:VCALENDAR
VERSION:2.0
PRODID:-//AudioTheme 2.3.8
BEGIN:VEVENT
UID:urn:uuid:bc85f2d1-5719-4461-8804-286687769380
URL:https://mitchmcvicker.com/concerts/gig-98/
DTSTART;TZID=GMT:20170525T000000
SUMMARY:Brothers Keeper Church
LOCATION:Brothers Keeper Church\, 280 Homer Cemetery Rd\, Lufkin\, TX
END:VEVENT
END:VCALENDAR
