BEGIN:VCALENDAR
VERSION:2.0
PRODID:-//AudioTheme 2.3.8
BEGIN:VEVENT
UID:urn:uuid:e8a616f0-2cb9-473b-9ca0-d6998490c3f2
URL:https://mitchmcvicker.com/concerts/gig-976/
DTSTART;VALUE=DATE:20160520
SUMMARY:Mesilla Park Community Church
LOCATION:Mesilla Park Community Church\, Las Cruces\, NM
END:VEVENT
END:VCALENDAR
