BEGIN:VCALENDAR
VERSION:2.0
PRODID:-//AudioTheme 2.3.8
BEGIN:VEVENT
UID:urn:uuid:df9582fb-62f9-4c56-8614-1eb3430e25ac
URL:https://mitchmcvicker.com/concerts/gig-972/
DTSTART;VALUE=DATE:20160518
SUMMARY:Zuni Christian Mission
LOCATION:Zuni Christian Mission\, Zuni\, NM
END:VEVENT
END:VCALENDAR
