BEGIN:VCALENDAR
VERSION:2.0
PRODID:-//AudioTheme 2.3.8
BEGIN:VEVENT
UID:urn:uuid:6e732c0b-d640-4fd2-bc15-87c724212a19
URL:https://mitchmcvicker.com/concerts/gig-970/
DTSTART;VALUE=DATE:20160517
SUMMARY:Gateway Community Church
LOCATION:Gateway Community Church\, Tse Bonito\, NM
END:VEVENT
END:VCALENDAR
