BEGIN:VCALENDAR
VERSION:2.0
PRODID:-//AudioTheme 2.3.8
BEGIN:VEVENT
UID:urn:uuid:ae5b5706-6279-4f22-878a-eb824b32323d
URL:https://mitchmcvicker.com/concerts/gig-968/
DTSTART;VALUE=DATE:20160516
SUMMARY:Vineyard Community Church
LOCATION:Vineyard Community Church\, 601 S Cooper Rd.\, Gilbert\, AZ
END:VEVENT
END:VCALENDAR
