BEGIN:VCALENDAR
VERSION:2.0
PRODID:-//AudioTheme 2.3.8
BEGIN:VEVENT
UID:urn:uuid:1f349c29-1e4f-4f8e-b87f-e470cf0af3fc
URL:https://mitchmcvicker.com/concerts/gig-966/
DTSTART;VALUE=DATE:20160515
SUMMARY:White Mountain Life Church
LOCATION:White Mountain Life Church\, Show Low\, AZ
END:VEVENT
END:VCALENDAR
