BEGIN:VCALENDAR
VERSION:2.0
PRODID:-//AudioTheme 2.3.8
BEGIN:VEVENT
UID:urn:uuid:05b8d32a-fbf8-4b59-b2c2-1955bead02e3
URL:https://mitchmcvicker.com/concerts/gig-964/
DTSTART;VALUE=DATE:20160512
SUMMARY:Pasadena Covenant Church
LOCATION:Pasadena Covenant Church\, Pasadena\, CA
END:VEVENT
END:VCALENDAR
