BEGIN:VCALENDAR
VERSION:2.0
PRODID:-//AudioTheme 2.3.8
BEGIN:VEVENT
UID:urn:uuid:5992d929-981b-490f-9484-46419965ddd7
URL:https://mitchmcvicker.com/concerts/gig-962/
DTSTART;VALUE=DATE:20160511
SUMMARY:Crossroads Christian Church
LOCATION:Crossroads Christian Church\, Corona\, CA
END:VEVENT
END:VCALENDAR
