BEGIN:VCALENDAR
VERSION:2.0
PRODID:-//AudioTheme 2.3.8
BEGIN:VEVENT
UID:urn:uuid:df8e080e-4afb-4e50-8166-f64966c2f839
URL:https://mitchmcvicker.com/concerts/gig-960/
DTSTART;VALUE=DATE:20160501
SUMMARY:Family Life Christian Church
LOCATION:Family Life Christian Church\, Galt\, CA
END:VEVENT
END:VCALENDAR
