BEGIN:VCALENDAR
VERSION:2.0
PRODID:-//AudioTheme 2.3.8
BEGIN:VEVENT
UID:urn:uuid:2ed12b96-d9db-47cd-9e73-e00d831ef1f1
URL:https://mitchmcvicker.com/concerts/gig-96/
DTSTART;TZID=GMT:20170526T000000
SUMMARY:Immanuel Lutheran Church
LOCATION:Immanuel Lutheran Church\, 2019 W. Avenue H\, Temple\, TX
END:VEVENT
END:VCALENDAR
