BEGIN:VCALENDAR
VERSION:2.0
PRODID:-//AudioTheme 2.3.8
BEGIN:VEVENT
UID:urn:uuid:96084194-8afa-4088-9fe7-74210d663d02
URL:https://mitchmcvicker.com/concerts/gig-958/
DTSTART;TZID=GMT:20200227T000000
SUMMARY:Horizon Christian Fellowship
LOCATION:Horizon Christian Fellowship\, 3591 Izaak Walton Dr.\, Harrisonburg\, VA
END:VEVENT
END:VCALENDAR
