BEGIN:VCALENDAR
VERSION:2.0
PRODID:-//AudioTheme 2.3.8
BEGIN:VEVENT
UID:urn:uuid:4899ddcb-964b-42ae-84a6-b44cec6b2ce3
URL:https://mitchmcvicker.com/concerts/gig-956/
DTSTART;VALUE=DATE:20160430
SUMMARY:Loma Rica Baptist Church
LOCATION:Loma Rica Baptist Church\, Marysville\, CA
END:VEVENT
END:VCALENDAR
