BEGIN:VCALENDAR
VERSION:2.0
PRODID:-//AudioTheme 2.3.8
BEGIN:VEVENT
UID:urn:uuid:410316c0-29bc-458f-baaf-38f95ebe9320
URL:https://mitchmcvicker.com/concerts/gig-954/
DTSTART;VALUE=DATE:20160429
SUMMARY:Cross Pointe Community Church
LOCATION:Cross Pointe Community Church\, Redding\, CA
END:VEVENT
END:VCALENDAR
