BEGIN:VCALENDAR
VERSION:2.0
PRODID:-//AudioTheme 2.3.8
BEGIN:VEVENT
UID:urn:uuid:bcb4ec3b-f370-4c46-abb1-55f1b7117377
URL:https://mitchmcvicker.com/concerts/gig-952/
DTSTART;VALUE=DATE:20160429
SUMMARY:Redding Christian School
LOCATION:Redding Christian School\, Palo Cedro\, CA
END:VEVENT
END:VCALENDAR
