BEGIN:VCALENDAR
VERSION:2.0
PRODID:-//AudioTheme 2.3.8
BEGIN:VEVENT
UID:urn:uuid:02c949de-4758-4f44-a0e6-05274f6ada12
URL:https://mitchmcvicker.com/concerts/gig-950/
DTSTART;VALUE=DATE:20160427
SUMMARY:Battle Ground Community United Methodist Church
LOCATION:Battle Ground Community United Methodist Church\, Battle Ground\, WA
END:VEVENT
END:VCALENDAR
