BEGIN:VCALENDAR
VERSION:2.0
PRODID:-//AudioTheme 2.3.8
BEGIN:VEVENT
UID:urn:uuid:cf52f221-8040-44cd-9a2e-9cbf830d7630
URL:https://mitchmcvicker.com/concerts/gig-948/
DTSTART;VALUE=DATE:20160426
SUMMARY:Trinity United Methodist Church
LOCATION:Trinity United Methodist Church\, Sequim\, WA
END:VEVENT
END:VCALENDAR
