BEGIN:VCALENDAR
VERSION:2.0
PRODID:-//AudioTheme 2.3.8
BEGIN:VEVENT
UID:urn:uuid:ee246542-8810-40b9-9ac1-0e4b95faf723
URL:https://mitchmcvicker.com/concerts/gig-946/
DTSTART;VALUE=DATE:20160417
SUMMARY:Bethel Church (Chehalis Campus)
LOCATION:Bethel Church (Chehalis Campus)\, Chehalis\, WA
END:VEVENT
END:VCALENDAR
