BEGIN:VCALENDAR
VERSION:2.0
PRODID:-//AudioTheme 2.3.8
BEGIN:VEVENT
UID:urn:uuid:040e8d7d-6713-4e16-8020-01464a60d71e
URL:https://mitchmcvicker.com/concerts/gig-942/
DTSTART;VALUE=DATE:20160415
SUMMARY:Mill Creek Foursquare Church
LOCATION:Mill Creek Foursquare Church\, Lynnwood\, WA
END:VEVENT
END:VCALENDAR
