BEGIN:VCALENDAR
VERSION:2.0
PRODID:-//AudioTheme 2.3.8
BEGIN:VEVENT
UID:urn:uuid:06d0f763-f09f-4201-8dfa-121bd80ecc6d
URL:https://mitchmcvicker.com/concerts/gig-940/
DTSTART;VALUE=DATE:20160414
SUMMARY:New Hope Community Church
LOCATION:New Hope Community Church\, Hermiston\, OR
END:VEVENT
END:VCALENDAR
