BEGIN:VCALENDAR
VERSION:2.0
PRODID:-//AudioTheme 2.3.8
BEGIN:VEVENT
UID:urn:uuid:0fe96171-cb6f-4231-beba-440c90b48824
URL:https://mitchmcvicker.com/concerts/gig-938/
DTSTART;VALUE=DATE:20160414
SUMMARY:Eastern Oregon Correctional Institution
LOCATION:Eastern Oregon Correctional Institution\, Pendleton\, OR
END:VEVENT
END:VCALENDAR
