BEGIN:VCALENDAR
VERSION:2.0
PRODID:-//AudioTheme 2.3.8
BEGIN:VEVENT
UID:urn:uuid:1de31b92-c3fe-4c32-9fdf-5f5a1cd4aa62
URL:https://mitchmcvicker.com/concerts/gig-936/
DTSTART;VALUE=DATE:20160413
SUMMARY:Pioneer United Methodist Church
LOCATION:Pioneer United Methodist Church\, Walla Walla\, WA
END:VEVENT
END:VCALENDAR
