BEGIN:VCALENDAR
VERSION:2.0
PRODID:-//AudioTheme 2.3.8
BEGIN:VEVENT
UID:urn:uuid:5861b9b2-decf-49e8-b3b8-edfe795d97b5
URL:https://mitchmcvicker.com/concerts/gig-931/
DTSTART;VALUE=DATE:20160411
SUMMARY:North Hills Christian Fellowship
LOCATION:North Hills Christian Fellowship\, Tremonton\, UT
END:VEVENT
END:VCALENDAR
