BEGIN:VCALENDAR
VERSION:2.0
PRODID:-//AudioTheme 2.3.8
BEGIN:VEVENT
UID:urn:uuid:55320044-baf7-45f6-8d96-68630f581ed9
URL:https://mitchmcvicker.com/concerts/gig-929/
DTSTART;VALUE=DATE:20160410
SUMMARY:Price Chapel
LOCATION:Price Chapel\, Price\, UT
END:VEVENT
END:VCALENDAR
