BEGIN:VCALENDAR
VERSION:2.0
PRODID:-//AudioTheme 2.3.8
BEGIN:VEVENT
UID:urn:uuid:7a32606c-6349-4a0f-9a00-2c6e0e579e51
URL:https://mitchmcvicker.com/concerts/gig-924/
DTSTART;VALUE=DATE:20160331
SUMMARY:Hillcrest Baptist Church
LOCATION:Hillcrest Baptist Church\, Sioux Falls\, SD
END:VEVENT
END:VCALENDAR
